BEGIN:VCALENDAR
VERSION:2.0
PRODID:-//wp-events-plugin.com//7.2.3.1//EN
TZID:America/Chicago
X-WR-TIMEZONE:America/Chicago
BEGIN:VEVENT
UID:812@pointoflightchurch.org
DTSTART;TZID=America/Chicago:20211017T100000
DTEND;TZID=America/Chicago:20211017T114500
DTSTAMP:20211003T233125Z
URL:https://pointoflightchurch.org/events/celebrate-pastors-appreciation/
SUMMARY:Celebrate Pastor's Appreciation *10PM Service Only*
DESCRIPTION:1 Timothy 5:17 Let the elders that rule well be counted worthy 
 of double honor\, especially they who labour in the word and doctrine.\n\n
 &nbsp\;
CATEGORIES:Onsite,Special Events
LOCATION:Point of Light Church\, 1599 Kingswood Dr\, Cedar Hill\, TX\, 7510
 4\, United States
X-APPLE-STRUCTURED-LOCATION;VALUE=URI;X-ADDRESS=1599 Kingswood Dr\, Cedar H
 ill\, TX\, 75104\, United States;X-APPLE-RADIUS=100;X-TITLE=Point of Light
  Church:geo:0,0
END:VEVENT
BEGIN:VTIMEZONE
TZID:America/Chicago
X-LIC-LOCATION:America/Chicago
BEGIN:DAYLIGHT
DTSTART:20210314T030000
TZOFFSETFROM:-0600
TZOFFSETTO:-0500
TZNAME:CDT
END:DAYLIGHT
END:VTIMEZONE
END:VCALENDAR