BEGIN:VCALENDAR
VERSION:2.0
PRODID:-//wp-events-plugin.com//7.2.3.1//EN
TZID:America/Chicago
X-WR-TIMEZONE:America/Chicago
BEGIN:VEVENT
UID:915@pointoflightchurch.org
DTSTART;TZID=America/Chicago:20230408T110000
DTEND;TZID=America/Chicago:20230408T140000
DTSTAMP:20230403T143531Z
URL:https://pointoflightchurch.org/events/cedar-hill-community-family-fun-
 day-2/
SUMMARY:Cedar Hill Community Family Fun Day
DESCRIPTION:\nSpring is back and so are we!\nIt's time for the Community Fa
 mily Fun Day hosted by The Point.\nJoin us April 8\, 2023 from 11:00 AM to
  2:00 PM for FREE...\n\n\n\n 	Food\n 	Carnival Rides\n 	Easter Egg Hunts (
 up to 12 years old)\n 	Giveaways and much more.\n\n\n\n\nRegister early\, 
 to be entered in a special drawing for our famous...\nFREE FAMILY FUN PACK
 ! *\n*  You must register by April 6\, 2023 to be eligible for this draw
 ing\, and be present at the event to win.\nPlus\, we will have multiple dr
 awings for additional prizes!\nSo act now! Click to REGISTER below and we 
 will see you there!!!\n\n\n              The POINT Community Family
  Fun Day \n\n&nbsp\;
CATEGORIES:Special Events
END:VEVENT
BEGIN:VTIMEZONE
TZID:America/Chicago
X-LIC-LOCATION:America/Chicago
BEGIN:DAYLIGHT
DTSTART:20230312T030000
TZOFFSETFROM:-0600
TZOFFSETTO:-0500
TZNAME:CDT
END:DAYLIGHT
END:VTIMEZONE
END:VCALENDAR