BEGIN:VCALENDAR
VERSION:2.0
PRODID:-//wp-events-plugin.com//7.2.3.1//EN
TZID:America/Chicago
X-WR-TIMEZONE:America/Chicago
BEGIN:VEVENT
UID:893@pointoflightchurch.org
DTSTART;TZID=America/Chicago:20221224T180000
DTEND;TZID=America/Chicago:20221224T191500
DTSTAMP:20221113T044836Z
URL:https://pointoflightchurch.org/events/candlelight-service-600pm/
SUMMARY:Candlelight Service @ 6:00PM
DESCRIPTION:Join us for our Candlelight Christmas Eve Service at 6PM.\n\nWe
  look forward to seeing you all here!\n\nReminder: No Service Christmas Da
 y (Sunday December 25th)\nJoin us onsite at Point of Light Church for this
  event.\nPoint of Light Church:\n1599 Kingswood Dr\nCedar Hill\, TX\, TX 7
 5104\n[su_button url="https://pointoflightchurch.org/contact" style="flat"
  icon="icon: map-marker"]Get Directions[/su_button]
LOCATION:Point of Light Church\, 1599 Kingswood Dr\, Cedar Hill\, TX\, 7510
 4\, United States
X-APPLE-STRUCTURED-LOCATION;VALUE=URI;X-ADDRESS=1599 Kingswood Dr\, Cedar H
 ill\, TX\, 75104\, United States;X-APPLE-RADIUS=100;X-TITLE=Point of Light
  Church:geo:0,0
END:VEVENT
BEGIN:VTIMEZONE
TZID:America/Chicago
X-LIC-LOCATION:America/Chicago
BEGIN:STANDARD
DTSTART:20221106T010000
TZOFFSETFROM:-0500
TZOFFSETTO:-0600
TZNAME:CST
END:STANDARD
END:VTIMEZONE
END:VCALENDAR