BEGIN:VCALENDAR
VERSION:2.0
PRODID:-//wp-events-plugin.com//7.2.3.1//EN
TZID:America/Chicago
X-WR-TIMEZONE:America/Chicago
BEGIN:VEVENT
UID:883@pointoflightchurch.org
DTSTART;TZID=America/Chicago:20221018T190000
DTEND;TZID=America/Chicago:20221018T200000
DTSTAMP:20221018T224338Z
URL:https://pointoflightchurch.org/events/book-club-meeting/
SUMMARY:Book Club meeting
DESCRIPTION:Warm fellowship\, insightful discussions\, encouraging words an
 d snacks\n\nTransform Your Thinking\, Transform Your Life by Dr. Bill Wins
 ton\n\nOrder your book at www.billwinston.org\n\nBook Cost $10.99\n\nThe g
 roup will meet every other Tuesday @ 7PM in the PLC fellowship hall\n\nHos
 ted by Minister Kim Robinson
CATEGORIES:Onsite
LOCATION:Point of Light Church\, 1599 Kingswood Dr\, Cedar Hill\, TX\, 7510
 4\, United States
X-APPLE-STRUCTURED-LOCATION;VALUE=URI;X-ADDRESS=1599 Kingswood Dr\, Cedar H
 ill\, TX\, 75104\, United States;X-APPLE-RADIUS=100;X-TITLE=Point of Light
  Church:geo:0,0
END:VEVENT
BEGIN:VTIMEZONE
TZID:America/Chicago
X-LIC-LOCATION:America/Chicago
BEGIN:DAYLIGHT
DTSTART:20220313T030000
TZOFFSETFROM:-0600
TZOFFSETTO:-0500
TZNAME:CDT
END:DAYLIGHT
END:VTIMEZONE
END:VCALENDAR