BEGIN:VCALENDAR
VERSION:2.0
PRODID:-//wp-events-plugin.com//7.2.3.1//EN
TZID:America/Chicago
X-WR-TIMEZONE:America/Chicago
BEGIN:VEVENT
UID:1070@pointoflightchurch.org
DTSTART;TZID=America/Chicago:20260102T000000
DTEND;TZID=America/Chicago:20260108T000000
DTSTAMP:20251231T205725Z
URL:https://pointoflightchurch.org/events/annual-7-day-consecration-prayer
 -and-fasting-jan-2nd-8th/
SUMMARY:Annual 7-Day Consecration Prayer and Fasting\, Jan 2nd - 8th
DESCRIPTION:\n[su_button url="https://pointoflightchurch.org/contact" style
 ="flat" background="#99cc66"  icon="icon: map-marker"]Get Directions[/su_
 button]\nWatch Online:\n[su_button url="https://pointoflightchurch.org/wat
 ch/" style="flat" background="#993399" icon="icon: youtube-play"]Watch Onl
 ine[/su_button]\nWatch Live on:\n[su_button url="https://www.facebook.com/
 PointOfLightChurch/" style="flat" icon="icon: facebook-official"]Facebook[
 /su_button]\n[su_button url="https://www.youtube.com/channel/UCgJeSAs4r1Wm
 kZgrye_LSag" style="flat" background="#ff0000" icon="icon: youtube-play" i
 con_color="#ffffff"]YouTube[/su_button]
CATEGORIES:Special Events
END:VEVENT
BEGIN:VTIMEZONE
TZID:America/Chicago
X-LIC-LOCATION:America/Chicago
BEGIN:STANDARD
DTSTART:20251102T010000
TZOFFSETFROM:-0500
TZOFFSETTO:-0600
TZNAME:CST
END:STANDARD
END:VTIMEZONE
END:VCALENDAR