BEGIN:VCALENDAR
VERSION:2.0
PRODID:-//wp-events-plugin.com//7.2.3.1//EN
TZID:America/Chicago
X-WR-TIMEZONE:America/Chicago
BEGIN:VEVENT
UID:794@pointoflightchurch.org
DTSTART;TZID=America/Chicago:20210817T060000
DTEND;TZID=America/Chicago:20210817T063000
DTSTAMP:20210806T030946Z
URL:https://pointoflightchurch.org/events/21-days-of-prayer-and-fasting-we
 ekly-meet-up-2021-08-17/
SUMMARY:21 Days of Prayer and Fasting (Weekday Prayer)
DESCRIPTION:Join us on Facebook Live for this event: https://www.facebook.c
 om/PointOfLightChurch/
CATEGORIES:Special Events,Watch Online
LOCATION:https://www.facebook.com/PointOfLightChurch/
END:VEVENT
BEGIN:VTIMEZONE
TZID:America/Chicago
X-LIC-LOCATION:America/Chicago
BEGIN:DAYLIGHT
DTSTART:20210314T030000
TZOFFSETFROM:-0600
TZOFFSETTO:-0500
TZNAME:CDT
END:DAYLIGHT
END:VTIMEZONE
END:VCALENDAR