BEGIN:VCALENDAR
VERSION:2.0
PRODID:-//wp-events-plugin.com//7.2.3.1//EN
TZID:America/Chicago
X-WR-TIMEZONE:America/Chicago
BEGIN:VEVENT
UID:809@pointoflightchurch.org
DTSTART;TZID=America/Chicago:20210815T100000
DTEND;TZID=America/Chicago:20210815T103000
DTSTAMP:20210806T031051Z
URL:https://pointoflightchurch.org/events/21-days-of-prayer-and-fasting-su
 nday-prayer-2021-08-15/
SUMMARY:21 Days of Prayer and Fasting (Sunday Prayer)
DESCRIPTION:Join us onsite for this event.\n\n 	Onsite at Point of Light Ch
 urch:\n1599 Kingswood Dr\nCedar Hill\, TX\, TX 75104\n
CATEGORIES:Onsite,Special Events
LOCATION:Point of Light Church\, 1599 Kingswood Dr\, Cedar Hill\, TX\, 7510
 4\, United States
X-APPLE-STRUCTURED-LOCATION;VALUE=URI;X-ADDRESS=1599 Kingswood Dr\, Cedar H
 ill\, TX\, 75104\, United States;X-APPLE-RADIUS=100;X-TITLE=Point of Light
  Church:geo:0,0
END:VEVENT
BEGIN:VTIMEZONE
TZID:America/Chicago
X-LIC-LOCATION:America/Chicago
BEGIN:DAYLIGHT
DTSTART:20210314T030000
TZOFFSETFROM:-0600
TZOFFSETTO:-0500
TZNAME:CDT
END:DAYLIGHT
END:VTIMEZONE
END:VCALENDAR