BEGIN:VCALENDAR
VERSION:2.0
PRODID:-//wp-events-plugin.com//7.2.3.1//EN
TZID:America/Chicago
X-WR-TIMEZONE:America/Chicago
BEGIN:VEVENT
UID:873@pointoflightchurch.org
DTSTART;TZID=America/Chicago;VALUE=DATE:20220808
DTEND;TZID=America/Chicago;VALUE=DATE:20220829
DTSTAMP:20220808T123143Z
URL:https://pointoflightchurch.org/events/21-day-fast-aug-7-28th/
SUMMARY:21 Day Fast\, Aug 7-28th
DESCRIPTION:Join Pastor Harris at 6:30am weekdays on FaceBook Live for pray
 er.\n\nCorporate Prayer List\n\n1. Spiritual awakening across Cedar Hill\,
  the Southwestern portion of\nDFW Metroplex\, and the U.S.\n\n2. For the p
 eople of The Point to be strong in their commitment to the\nLord\n\n3. For
  the growth of the Sunday and Wednesday services to touch more\nlives\n\n4
 . For members to increase in their faithfulness to God and to The Point\n\
 n5. For God to direct all aspects of our lives and pursuits (careers\,\nbu
 siness endeavors\, investments\, decisions\, etc.) and have us to respond\
 nin faith and obedience to HIM\n\n6. For men\, women\, children\, and all 
 other ministries at The Point to be\nstrengthened and effective in getting
  the Word out to others and getting\nthe Word IN to their spirits\n\n7. In
 creased faithfulness and stewardship of all resources (Time\,\nTalent\, an
 d Treasure) individually and collectively\n\n8. Schools\, Students\, Teach
 ers\, Administrators\, and Government Officials\n\n9. Pray for the Peace o
 f Israel\, our nation (USA) and all others.\n
CATEGORIES:Special Events,Watch Online
END:VEVENT
BEGIN:VTIMEZONE
TZID:America/Chicago
X-LIC-LOCATION:America/Chicago
BEGIN:DAYLIGHT
DTSTART:20220313T030000
TZOFFSETFROM:-0600
TZOFFSETTO:-0500
TZNAME:CDT
END:DAYLIGHT
END:VTIMEZONE
END:VCALENDAR