BEGIN:VCALENDAR
VERSION:2.0
PRODID:-//wp-events-plugin.com//7.2.3.1//EN
TZID:America/Chicago
X-WR-TIMEZONE:America/Chicago
BEGIN:VEVENT
UID:879@pointoflightchurch.org
DTSTART;TZID=America/Chicago;VALUE=DATE:20220914
DTEND;TZID=America/Chicago;VALUE=DATE:20220915
DTSTAMP:20220914T150708Z
URL:https://pointoflightchurch.org/events/15-biblical-truths/
SUMMARY:15 Biblical Truths
DESCRIPTION:15 Biblical Truths\n1. I am a new creature predestined for grea
 tness. \n2 Corinthians 5:17\n2. I am a child of God fully accepted by the 
 Father.\nJohn 1:12-13\n3. I am loved by the Father regardless of how I per
 form. \nRomans 5:8-9\n4. I am forgiven and I won't be tormented by my past
  mistakes. \n1 John 1:9\n5. I am an overcomer and my faith is changing my 
 circumstances.  \n1 John 5:14-15\n6. I am a giver and God is causing peop
 le to help me prosper. \nLuke 6:38\n7. I have authority over the devil and
  no demon power can hurt me.  \nLuke 10:17-19\n8. Abundance is God's will
  for me and I will not settle for less. \nJohn 10:10\n9. I am healed and s
 ickness will not lord over my body or my mind.  \n1 Peter 2:24\n10. God i
 s on my side and I choose not to fear because God loves me.  \nPsalm 118:
 6\n11. The Holy Spirit is my helper and I am never alone and I have the \n
 peace of God. \nPhilippians 4:7\n12. I am blessed and it is just a matter 
 of time before things change \nand what you see now is only temporary.  \
 nEphesians 1:3\n13. I have the wisdom of God.  I hear the Father's voice 
 and a stranger \nI will not follow.  \n1 Corinthians 1:29-30\n14. I am se
 t in the body of Christ and I know I am valuable.  I am \nimportant to th
 e work of God and I shall not be moved. \n1 Corinthians 12:20-25\n15. I ch
 oose not to be offended.  I know that I am being delivered out \nof all o
 f my afflictions and persecutions.  \nMatthew 5:1-12
END:VEVENT
BEGIN:VTIMEZONE
TZID:America/Chicago
X-LIC-LOCATION:America/Chicago
BEGIN:DAYLIGHT
DTSTART:20220313T030000
TZOFFSETFROM:-0600
TZOFFSETTO:-0500
TZNAME:CDT
END:DAYLIGHT
END:VTIMEZONE
END:VCALENDAR